BEGIN:VCALENDAR
VERSION:2.0
PRODID:-//TPIS International School - ECPv6.15.20//NONSGML v1.0//EN
CALSCALE:GREGORIAN
METHOD:PUBLISH
X-WR-CALNAME:TPIS International School
X-ORIGINAL-URL:https://tpis.edu.my
X-WR-CALDESC:Events for TPIS International School
REFRESH-INTERVAL;VALUE=DURATION:PT1H
X-Robots-Tag:noindex
X-PUBLISHED-TTL:PT1H
BEGIN:VTIMEZONE
TZID:UTC
BEGIN:STANDARD
TZOFFSETFROM:+0000
TZOFFSETTO:+0000
TZNAME:UTC
DTSTART:20240101T000000
END:STANDARD
END:VTIMEZONE
BEGIN:VEVENT
DTSTART;TZID=UTC:20251009T080000
DTEND;TZID=UTC:20251009T163000
DTSTAMP:20260420T023413
CREATED:20250924T232402Z
LAST-MODIFIED:20250924T232402Z
UID:15930-1759996800-1760027400@tpis.edu.my
SUMMARY:FIELD TRIP: SHAH ALAM BOTANICAL GARDEN
DESCRIPTION:
URL:https://tpis.edu.my/event/field-trip-shah-alam-botanical-garden/
END:VEVENT
BEGIN:VEVENT
DTSTART;TZID=UTC:20251030T080000
DTEND;TZID=UTC:20251030T150000
DTSTAMP:20260420T023413
CREATED:20251004T034222Z
LAST-MODIFIED:20251004T034222Z
UID:15969-1761811200-1761836400@tpis.edu.my
SUMMARY:Halloween Celebration
DESCRIPTION:
URL:https://tpis.edu.my/event/halloween-celebration/
END:VEVENT
BEGIN:VEVENT
DTSTART;TZID=UTC:20251031T080000
DTEND;TZID=UTC:20251031T150000
DTSTAMP:20260420T023413
CREATED:20251004T034341Z
LAST-MODIFIED:20251004T034341Z
UID:15971-1761897600-1761922800@tpis.edu.my
SUMMARY:Deepavali Celebration
DESCRIPTION:
URL:https://tpis.edu.my/event/deepavali-celebration/
END:VEVENT
BEGIN:VEVENT
DTSTART;TZID=UTC:20251106T090000
DTEND;TZID=UTC:20251106T100000
DTSTAMP:20260420T023413
CREATED:20251103T084636Z
LAST-MODIFIED:20251104T115310Z
UID:16065-1762419600-1762423200@tpis.edu.my
SUMMARY:First Aid Training by KPJ
DESCRIPTION:
URL:https://tpis.edu.my/event/first-aid-training-by-kpj/
END:VEVENT
BEGIN:VEVENT
DTSTART;TZID=UTC:20251113T090000
DTEND;TZID=UTC:20251113T100000
DTSTAMP:20260420T023413
CREATED:20251103T231324Z
LAST-MODIFIED:20251103T231324Z
UID:16069-1763024400-1763028000@tpis.edu.my
SUMMARY:Mental Health Awareness
DESCRIPTION:
URL:https://tpis.edu.my/event/mental-health-awareness/
END:VEVENT
BEGIN:VEVENT
DTSTART;TZID=UTC:20251113T090000
DTEND;TZID=UTC:20251113T130000
DTSTAMP:20260420T023413
CREATED:20251103T084725Z
LAST-MODIFIED:20251103T084725Z
UID:16067-1763024400-1763038800@tpis.edu.my
SUMMARY:Sunway College: German Day Workshop
DESCRIPTION:
URL:https://tpis.edu.my/event/sunway-college-german-day-workshop/
END:VEVENT
BEGIN:VEVENT
DTSTART;TZID=UTC:20251208T133000
DTEND;TZID=UTC:20251208T150000
DTSTAMP:20260420T023413
CREATED:20251004T034521Z
LAST-MODIFIED:20251004T034521Z
UID:15973-1765200600-1765206000@tpis.edu.my
SUMMARY:TPIS Anime Workshop
DESCRIPTION:
URL:https://tpis.edu.my/event/tpis-anime-workshop/
END:VEVENT
BEGIN:VEVENT
DTSTART;TZID=UTC:20260309T080000
DTEND;TZID=UTC:20260312T150000
DTSTAMP:20260420T023413
CREATED:20260308T072100Z
LAST-MODIFIED:20260308T072114Z
UID:16614-1773043200-1773327600@tpis.edu.my
SUMMARY:EXAM WEEK Term 2
DESCRIPTION:
URL:https://tpis.edu.my/event/exam-week/
END:VEVENT
BEGIN:VEVENT
DTSTART;TZID=UTC:20260313T130000
DTEND;TZID=UTC:20260313T150000
DTSTAMP:20260420T023413
CREATED:20260308T071654Z
LAST-MODIFIED:20260308T071654Z
UID:16610-1773406800-1773414000@tpis.edu.my
SUMMARY:Pi Day
DESCRIPTION:Get ready to celebrate the magic of mathematics! On 13 March\, from 1:00 PM to 3:00 PM\, students at Templer Park International School Rawang (TPIS) will dive into the fun of Pi Day. \nJoin us for an afternoon of Pi-themed games\, puzzles\, and hands-on activities that spark curiosity\, teamwork\, and problem-solving skills. It’s a chance for students to explore the fascinating world of π (pi)\, challenge themselves\, and have a blast with friends. \nMark your calendars—math has never been this fun! 🥧✨
URL:https://tpis.edu.my/event/pi-day/
END:VEVENT
BEGIN:VEVENT
DTSTART;TZID=UTC:20260319T083000
DTEND;TZID=UTC:20260319T130000
DTSTAMP:20260420T023413
CREATED:20260308T072310Z
LAST-MODIFIED:20260308T072310Z
UID:16618-1773909000-1773925200@tpis.edu.my
SUMMARY:Parent Teacher Meeting (PTM)
DESCRIPTION:
URL:https://tpis.edu.my/event/parent-teacher-meeting-ptm/
END:VEVENT
BEGIN:VEVENT
DTSTART;TZID=UTC:20260423T080000
DTEND;TZID=UTC:20260423T120000
DTSTAMP:20260420T023413
CREATED:20260417T125323Z
LAST-MODIFIED:20260417T125504Z
UID:16742-1776931200-1776945600@tpis.edu.my
SUMMARY:World Book Day
DESCRIPTION:In celebration of World Book Day on 23rd April 2026 (Thursday)\, Templer Park International School is excited to host a fun and engaging “Dress as a Story Character” event! \nWe warmly invite all students to come dressed as their favourite character from any storybook. Let your creativity shine by bringing beloved characters to life—your costume should clearly represent the character so others can recognise or guess the story. \nTo make this activity even more meaningful\, we strongly encourage students to create their costumes using recycled or easily available materials such as cardboard\, paper\, old clothes\, fabric\, or other household items. This not only sparks imagination but also promotes sustainable practices. \nGet ready for a day filled with creativity\, storytelling\, and fun—we can’t wait to see your amazing costumes! 🎭📖
URL:https://tpis.edu.my/event/16742/
END:VEVENT
END:VCALENDAR