BEGIN:VCALENDAR
VERSION:2.0
PRODID:-//TPIS International School - ECPv6.15.20//NONSGML v1.0//EN
CALSCALE:GREGORIAN
METHOD:PUBLISH
X-WR-CALNAME:TPIS International School
X-ORIGINAL-URL:https://tpis.edu.my
X-WR-CALDESC:Events for TPIS International School
REFRESH-INTERVAL;VALUE=DURATION:PT1H
X-Robots-Tag:noindex
X-PUBLISHED-TTL:PT1H
BEGIN:VTIMEZONE
TZID:UTC
BEGIN:STANDARD
TZOFFSETFROM:+0000
TZOFFSETTO:+0000
TZNAME:UTC
DTSTART:20220101T000000
END:STANDARD
END:VTIMEZONE
BEGIN:VEVENT
DTSTART;TZID=UTC:20231007T080000
DTEND;TZID=UTC:20231007T120000
DTSTAMP:20260421T070928
CREATED:20230929T050807Z
LAST-MODIFIED:20230929T073933Z
UID:11989-1696665600-1696680000@tpis.edu.my
SUMMARY:TPIS OCTOBER OPEN DAY
DESCRIPTION:📚✨ Explore\, Discover\, and Dream with Us! ✨🏫\nJoin us for an unforgettable journey through the world of education at our School Open Day! Whether you’re a prospective student or a parent seeking the best for your child\, this is your chance to get a taste of what makes our school truly special. 🌈✨ \nDon’t miss out on this opportunity to be a part of our educational journey! Mark your calendars and come with your curiosity in tow. We can’t wait to welcome you with open arms. 🤗❤️ \nIf you have any questions or require further information\, please feel free to contact us. \nhttps://wa.me/601116322559\nhttps://wa.me/601116322247 \nHome \n \n#tpisofficial #yearntolearn #TemplerPark #Internationalschool #educationmalaysia #SchoolOpenDay #EducationMatters #FutureLeaders #DiscoverWithUs
URL:https://tpis.edu.my/event/tpis-september-open-day/
CATEGORIES:Featured,University
ATTACH;FMTTYPE=image/jpeg:https://tpis.edu.my/wp-content/uploads/2023/09/WhatsApp-Image-2023-09-29-at-13.10.44.jpeg
END:VEVENT
END:VCALENDAR