BEGIN:VCALENDAR
VERSION:2.0
PRODID:-//TPIS International School - ECPv6.15.20//NONSGML v1.0//EN
CALSCALE:GREGORIAN
METHOD:PUBLISH
X-ORIGINAL-URL:https://tpis.edu.my
X-WR-CALDESC:Events for TPIS International School
REFRESH-INTERVAL;VALUE=DURATION:PT1H
X-Robots-Tag:noindex
X-PUBLISHED-TTL:PT1H
BEGIN:VTIMEZONE
TZID:UTC
BEGIN:STANDARD
TZOFFSETFROM:+0000
TZOFFSETTO:+0000
TZNAME:UTC
DTSTART:20240101T000000
END:STANDARD
END:VTIMEZONE
BEGIN:VEVENT
DTSTART;TZID=UTC:20251003T130000
DTEND;TZID=UTC:20251003T143000
DTSTAMP:20260419T214549
CREATED:20250924T142325Z
LAST-MODIFIED:20250924T142325Z
UID:15927-1759496400-1759501800@tpis.edu.my
SUMMARY:UKEC: Beyond the Horizon – What Does the Future Workforce Look Like?
DESCRIPTION:With the future so uncertain\, what careers would be in demand? In this session\, students are encouraged to open up their minds to future possibilities and explore degrees and careers that have the potential to shape the future and resolve many burning issues affecting our society.
URL:https://tpis.edu.my/event/ukec-beyond-the-horizon-what-does-the-future-workforce-look-like/
END:VEVENT
END:VCALENDAR